BEGIN:VCALENDAR
VERSION:2.0
PRODID:-//Małopolskie Towarzystwo Krzewienia Kultury Fizycznej - ECPv6.15.17.1//NONSGML v1.0//EN
CALSCALE:GREGORIAN
METHOD:PUBLISH
X-ORIGINAL-URL:https://tkkf.com
X-WR-CALDESC:Wydarzenia dla Małopolskie Towarzystwo Krzewienia Kultury Fizycznej
REFRESH-INTERVAL;VALUE=DURATION:PT1H
X-Robots-Tag:noindex
X-PUBLISHED-TTL:PT1H
BEGIN:VTIMEZONE
TZID:Europe/Warsaw
BEGIN:DAYLIGHT
TZOFFSETFROM:+0100
TZOFFSETTO:+0200
TZNAME:CEST
DTSTART:20160327T010000
END:DAYLIGHT
BEGIN:STANDARD
TZOFFSETFROM:+0200
TZOFFSETTO:+0100
TZNAME:CET
DTSTART:20161030T010000
END:STANDARD
BEGIN:DAYLIGHT
TZOFFSETFROM:+0100
TZOFFSETTO:+0200
TZNAME:CEST
DTSTART:20170326T010000
END:DAYLIGHT
BEGIN:STANDARD
TZOFFSETFROM:+0200
TZOFFSETTO:+0100
TZNAME:CET
DTSTART:20171029T010000
END:STANDARD
BEGIN:DAYLIGHT
TZOFFSETFROM:+0100
TZOFFSETTO:+0200
TZNAME:CEST
DTSTART:20180325T010000
END:DAYLIGHT
BEGIN:STANDARD
TZOFFSETFROM:+0200
TZOFFSETTO:+0100
TZNAME:CET
DTSTART:20181028T010000
END:STANDARD
BEGIN:DAYLIGHT
TZOFFSETFROM:+0100
TZOFFSETTO:+0200
TZNAME:CEST
DTSTART:20190331T010000
END:DAYLIGHT
BEGIN:STANDARD
TZOFFSETFROM:+0200
TZOFFSETTO:+0100
TZNAME:CET
DTSTART:20191027T010000
END:STANDARD
END:VTIMEZONE
BEGIN:VEVENT
DTSTART;TZID=Europe/Warsaw:20181027T083000
DTEND;TZID=Europe/Warsaw:20181028T150000
DTSTAMP:20260421T205102
CREATED:20181018T102350Z
LAST-MODIFIED:20181018T102350Z
UID:3858-1540629000-1540738800@tkkf.com
SUMMARY:XVI Ogólnopolski Turniej Siatkówki Kobiet i Mężczyzn "Wawelskiego Smoka"
DESCRIPTION:Turniej na zaproszenie Organizatora. \nI.Cel: \nPopularyzacja  siatkówki  amatorskiej  na  szczeblu  ogólnopolskim. \nWyłonienie  najlepszych drużyn  siatkówki  kobiet  i  mężczyzn  poprzez  rywalizację  zespołową. \nII.Organizatorzy: \nMałopolskie  TKKF  –  Zarząd  Wojewódzki w Krakowie \nSzkoła Aspirantów Państwowej Straży Pożarnej \nOgnisko  TKKF  Apollo –  SM  Mistrzejowice  Płn. w Krakowie \nIII.Partnerzy  i  sponsorzy: \nWojewództwo Małopolskie \nGmina  Miejska  Kraków    \nCom Com Zone \nMOS Kraków Wschód \nMPEC S.A. \nMPO Sp. z o.o. \nMałopolanka \nIV.Wsparcie  medialne: \nPolska  Gazeta  Krakowska \nDziennik  Polski \nKurier Małopolskiego TKKF \nV.Termin  i  miejsce: \n27 i 28 października  2018r. \nHala  Sportowa  Com Com Zone  ul.  Ptaszyckiego  6 \nSuche Stawy   ul.  Ptaszyckiego  4 (była hala KS Hutnik) \nSzkoła  Podstawowa  nr  89  os. Piastów  34  a \nSzkoła  Aspirantów  PSP  os. Zgody  18 \nVI.Przewidywany program: \n27.X. 2018 \n8.30 – Przyjmowanie  zgłoszeń\, weryfikacja zawodników\, wydawanie bloczków żywieniowych i opasek identyfikacyjnych \n9.00 – Uroczyste  otwarcie  turnieju \n9.05 – 9.30    Rozgrzewka \n9.30 – 16.00  Gry eliminacyjne i ćwierćfinały \n19.30 –  Podsumowanie  pierwszego  dnia  turnieju \n20.00 –  Spotkanie  integracyjne: Hotel Indigo  \n28.X.  2019 \n10.00 – 10.30 –  Rozgrzewka \n10.30 – 14.00 –  Rozpoczęcie  gier  półfinałowych i finałowych  kobiet i mężczyzn \n14.00 – 15.00 –  Podsumowanie  wyników\,  wręczenie  pucharów\,  dyplomów  i  upominków \n15.00  –  Zakończenie  imprezy\,  wyjazd  ekip \nVII.Zasady  uczestnictwa  i  zgłoszenia: \n\n W Turnieju  uczestniczyć  mogą :\n\n– drużyny kobiet i mężczyzn\, które otrzymały zaproszenie od Organizatora i dokonały wpłaty tytułem  wpisowego na konto Małopolskiego TKKF \nnr. 13 8591 0007 0021 0050 8955 0001. \nWpisowe nie podlega zwrotowi. \n– dopuszcza się udział zawodniczek/ów zgłoszonych na sezon 2018/2019 do III ligi i niższych Wojewódzkich Związków Piłki Siatkowej (bez ograniczeń wiekowych). \n– osoby\, które posiadają  aktualne  badania  lekarskie lub wypełnią oświadczenie o stanie zdrowia. \n– zawodnicy  powyżej 15 roku  życia (do 18 roku życia obowiązkowa zgoda rodziców lub opiekuna prawnego zał. Nr.2). \n– do zespołów męskich dopuszcza się zawodniczki z ważną licencją II ligi i lig wyższych na sezon 2018/2019 \n  \n\n W Turnieju uczestniczyć nie mogą:\n\n– zawodniczki/cy z ważną licencją II ligi i lig wyższych na sezon 2018/2019\, za wyjątkiem dwóch\, które/rzy ukończyli 35 rok życia. \n\n Zgłoszenia:\n\n– pisemne  zgłoszenia na formularzu / zał. nr 1 do regulaminu / należy  kierować  na  adres Małopolskiego  TKKF  w  Krakowie  ul. Lenartowicza  14  lub na  adres  email :  tkkf @ tkkf.com \n– w zgłoszeniu  należy  podać: nazwę  drużyny\, imiona\, nazwiska  i daty  urodzenia zawodników. Zgłoszenie musi być podpisane przez wszystkich zawodników i kapitana lub kierownika drużyny.        \nObowiązkiem każdego zawodnika jest posiadanie na meczu dowodu tożsamości. W przypadku jakichkolwiek wątpliwości kierownik drużyny może żądać od zawodnika drużyny przeciwnej okazania w/w dokumentu. Brak dokumentu i stwierdzenie przez organizatora gry nieuprawnionego zawodnika będzie skutkować  ukaraniem drużyny walkowerem w tym meczu. Stwierdzenie dalszych nieprawidłowości będzie równoznaczne z dyskwalifikacją zespołu.  \nVIII.Sposób  przeprowadzenia  turnieju: \n– Turniej  rozegrany  zostanie  zgodnie  z  przepisami  PZPS\,  z  podziałem  na  grupy eliminacyjne \n– Szczegółowy  system  rozgrywek\, miejsce rozgrywek i punktacja  zostanie  ustalony  przed  Turniejem  w  zależności  od  ilości zgłoszonych  drużyn odrębnymi załącznikami (nr 3 i 4) \n– Zespoły  powinny  posiadać  własne   piłki  tak do gry\, jak i do  rozgrzewki Turniej rozgrywany będzie piłkami MOLTEN lub MIKASA. O wyborze piłki decyduje gospodarz  meczu tj.  zespół   wymieniony w protokole na 1-szym miejscu. \nIX.Klasyfikacja  końcowa: \nUstalona  będzie na podstawie uzyskanych wyników\, osobno dla kobiet\, osobno dla mężczyzn. \nX.Nagrody: \nI  –  IV  miejsce     –  Puchary (smoki)\,   dyplomy \nPozostałe  miejsca  –  okolicznościowe  dyplomy. \nDla wszystkich zespołów uczestniczących w Turnieju przewidziane  są  okolicznościowe  koszulki. Najlepsi zawodnicy (kobiety i mężczyźni): atakujący\, rozgrywający\, przyjmujący\, MVP otrzymują   upominki (smoki) i okolicznościowe dyplomy. \nXI.Zasady  finansowania: \n–   koszty  związane  z  przeprowadzeniem  imprezy  pokrywają  organizatorzy\, \n–   koszty  dojazdu \,  wyżywienia \,  noclegu  i  opłaty  startowej  pokrywają  uczestnicy  we  własnym  zakresie. \nXII.Postanowienia  końcowe: \n\nSekretariat zawodów będzie  czynny:\n\n27.10.2018  w  godz.  8:00 – 16:00  \n28.10.2018  w  godz.  9:00 – 15:00 \n\nUczestników Turnieju obowiązuje strój i obuwie sportowe.\nUczestników Turnieju obowiązują zasady „fair play„\nOrganizatorzy zapewniają ubezpieczenie od następstw nieszczęśliwych wypadków /NNW/ i opiekę medyczną podczas zawodów. Zespoły i uczestnicy mogą się dodatkowo doubezpieczyć w zakresie NNW.\nOrganizatorzy nie biorą  odpowiedzialności  za  wypadki  spowodowane  złym  stanem  zdrowia startujących.\nUczestnicy imprezy są zobowiązani do przestrzegania niniejszego Regulaminu\, ogólnych zasad bezpieczeństwa i stosowania się do poleceń organizatorów.\nZa zachowanie osób niepełnoletnich odpowiadają ich opiekunowie.\nUczestnicy ponoszą odpowiedzialność cywilną i prawną za wszystkie szkody wyrządzone z własnej  winy.\nOrganizator i wszystkie osoby z nim współpracujące\, a także osoby związane z przeprowadzeniem i organizacją turnieju\, nie ponoszą odpowiedzialności względem  uczestników za szkody osobowe\, rzeczowe i majątkowe\, które wystąpią przed\, w trakcie lub po imprezie. \nUczestnicy turnieju podpisując listę startową akceptują niniejszy Regulamin Turnieju oraz poniższą klauzulę:\n\n* zdjęcia\, nagranie filmowe\, wywiady\, relacje z wydarzenia z moją osobą mogą być wykorzystane przez prasę\, radio i internet \n* wyrażam zgodę na przetwarzanie moich danych osobowych przez organizatora w związku z organizacją XVI Ogólnopolskiego Turnieju Siatkówki kobiet i mężczyzn „Wawelskiego Smoka” oraz  otrzymałam/otrzymałem informację\, że: \n– dostęp do tych danych będzie miał wyłącznie Administrator\, którym jest  Zarząd Wojewódzki Małopolskiego  Towarzystwa Krzewienia Kultury Fizycznej z siedzibą  w Krakowie\, ul. Lenartowicza 14\, 31-138 Kraków. \n– posiada  Pani/Pan prawo dostępu do karty zgłoszenia\, w której są podane dane osobowe\, ich  sprostowania\, usunięcia lub ograniczenia przetwarzania\, a także prawo do przenoszenia danych \n– podanie danych osobowych ma charakter dobrowolny\n– podanie danych jest warunkiem niezbędnym \, by uwzględnić Panią/Pana do startu (wzięcia udziału) w XVI Ogólnopolskim Turnieju Siatkówki kobiet i mężczyzn  „Wawelskiego Smoka”. \n– Administrator nie przewiduje profilowania na podstawie Pani/Pana danych  osobowych\n– dane będą przechowywane przez okres 6 lat \n– posiada Pani/Pan prawo do wniesienia skargi do organu nadzorczego\, którym  jest Prezes Urzędu Ochrony Danych Osobowych z siedzibą ul. Stawki 2\, 00-193 Warszawa. \n– podstawą prawną przetwarzania Pani/Pana stanowi art. 6 ust. 1 lit. A Rozporządzenia Parlamentu Europejskiego i Rady (UE) 2016/679 z dnia 27 kwietnia 2016 r.( RODO)  w sprawie ochrony osób fizycznych w związku z  przetwarzaniem danych osobowych i sprawie swobodnego przepływu takich \n  danych oraz uchylenie dyrektywy 95/46 WE (ogólne rozporządzenie o ochronie dany)(Dz. Urz. UE L. 119 z 4 maja 2016\, s. 1) \n\nWszystkie sprawy sporne wynikłe podczas Turnieju rozstrzygać będzie Komisja odwoławcza  złożona  z  trzech   osób: (sędzia  główny i  dwóch przedstawicieli  organizatorów) po  wniesieniu  wadium  w  wysokości  50  zł.\nUczestnicy mają obowiązek zapoznać się z niniejszym Regulaminem.\nOrganizator zastrzega sobie prawo ostatecznej interpretacji niniejszego Regulaminu.\nNiniejszy Regulamin oraz bieżące informacje i wyniki Ogólnopolskiego Turnieju Siatkówki„ Wawelskiego Smoka „ będą dostępne na stronie Małopolskiego  TKKF: www.tkkf.com\n\nKarta zgłoszenia (zał. 1) – pdf\nZgoda rodziców (zał. 2) -pdf\n\n 
URL:https://tkkf.com/event/xvi-ogolnopolski-turniej-siatkowki-kobiet-i-mezczyzn-wawelskiego-smoka/
LOCATION:ComComZone\, ul. Ptaszyckiego 6\, Kraków\, małopolska\, 31-979\, Polska
CATEGORIES:Imprezy sportowe
ATTACH;FMTTYPE=image/jpeg:https://tkkf.com/wp-content/uploads/2018/10/Bez-tytułu1111.jpg
ORGANIZER;CN="Malopolskie TKKF":MAILTO:tkkf@tkkf.com
END:VEVENT
BEGIN:VEVENT
DTSTART;TZID=Europe/Warsaw:20171021T083000
DTEND;TZID=Europe/Warsaw:20171022T150000
DTSTAMP:20260421T205102
CREATED:20171005T135732Z
LAST-MODIFIED:20171006T082119Z
UID:1591-1508574600-1508684400@tkkf.com
SUMMARY:XV Ogólnopolski Turniej siatkówki kobiet i mężczyzn "Wawelskiego Smoka"
DESCRIPTION:I. Cel: \n– Popularyzacja  siatkówki  amatorskiej  na  szczeblu  ogólnopolskim.\n – Wyłonienie  najlepszych drużyn  siatkówki  kobiet  i  mężczyzn  poprzez  rywalizację  zespołową. \nII. Organizatorzy: \n-Małopolskie  TKKF  –  Zarząd  Wojewódzki w Krakowie\n -Ognisko  TKKF  Apollo –  SM  Mistrzejowice  Płn. w Krakowie \nIII.  Partnerzy  i  sponsorzy : \n-Województwo Małopolskie\n -Gmina  Miejska  Kraków    \nIV. Wsparcie medialne : \n-Polska  Gazeta  Krakowska\n -Dziennik  Polski\n -Kurier Małopolskiego TKKF \nV. Termin i  miejsce : \n21 i 22 października  2017r. \n-Hala  Sportowa  Com Com Zone  ul.  Ptaszyckiego  6\n -Hala  Sportowa   Zespółu Szkół Sajezjańskich os. Piastów 34\n -Szkoła  Podstawowa  nr  89  os. Piastów  34  a\n -Szkoła  Aspirantów  PSP  os. Zgody  18 \nVI. Program : \n21.X. 2017 \n8.30 –  Przyjmowanie  zgłoszeń\, weryfikacja zawodników\, wydawanie bloczków żywieniowych i opasek identyfikacyjnych\n 9.00 – Uroczyste  otwarcie  turnieju\n 9.05 – 9.30 –  Rozgrzewka\n 9.30 – 16.00 – Gry eliminacyjne i ćwierćfinały\n 19.30 –  Podsumowanie  pierwszego  dnia  turnieju\n 20.00 –  Spotkanie  integracyjne: Hotel Indigo \n22.X.  2017 \n10.00 – 10.30 –  Rozgrzewka\n 10.30 – 14.00 –  Rozpoczęcie  gier  półfinałowych i finałowych  kobiet i mężczyzn\n 14.00 – 15.00 –  Podsumowanie  wyników\,  wręczenie  pucharów\,  dyplomów  \n i  upominków\n 15.00 –  Zakończenie  imprezy\,  wyjazd  ekip \nVII.  Zasady  uczestnictwa  i  zgłoszenia : \n\nW Turnieju  uczestniczyć  mogą :\n – drużyny kobiet i mężczyzn\, które otrzymały zaproszenie od Organizatora i dokonały wpłaty tytułem  wpisowego.\n – dopuszcza się udział zawodniczek/ów zgłoszonych na sezon 2017/2018 do III ligi i niższych\n Wojewódzkich Związków Piłki Siatkowej (bez ograniczeń wiekowych).\n – osoby\, które posiadają  aktualne  badania  lekarskie lub wypełnią oświadczenie o stanie zdrowia.\nW Turnieju uczestniczyć nie mogą:\n – zawodniczki/cy z ważną licencją II ligi i lig wyższych na sezon 2017/2018\, za wyjątkiem dwóch\, które/rzy ukończyli 35 rok życia.\n  Zgłoszenia :\n – pisemne  zgłoszenia na formularzu /zał. nr 1 do regulaminu / należy  kierować  na  adres Małopolskiego  TKKF  w  Krakowie  ul. Lenartowicza  14  lub na  adres  email :  tkkf @ tkkf.com\n – w  zgłoszeniu  należy  podać: nazwę  drużyny\, imiona\, nazwiska  i daty  urodzenia zawodników. Zgłoszenie musi być podpisane przez wszystkich zawodników i kapitana lub kierownika drużyny.\n – zawodnicy do lat 18 muszą przedstawić zgodę obojga rodziców (zał. nr 2)\n\nObowiązkiem każdego zawodnika jest posiadanie na meczu dowodu tożsamości. W przypadku jakichkolwiek wątpliwości kierownik drużyny może żądać od zawodnika drużyny przeciwnej okazania w/w dokumentu. Brak dokumentu i stwierdzenie przez organizatora gry nieuprawnionego zawodnika będzie skutkować  ukaraniem drużyny walkowerem w tym meczu. Stwierdzenie dalszych nieprawidłowości będzie równoznaczne z dyskwalifikacją zespołu.  \nVIII.  Sposób  przeprowadzenia  turnieju : \n – Turniej  rozegrany  zostanie  zgodnie  z  przepisami  PZPS\,  z  podziałem  na  grupy eliminacyjne\n – Szczegółowy  system  rozgrywek  zostanie  ustalony  przed  Turniejem  w  zależności  od  ilości zgłoszonych  drużyn\n – Zespoły  powinny  posiadać  własne   piłki  tak do gry\, jak i do  rozgrzewki. Turniej rozgrywany będzie piłkami MOLTEN lub MIKASA.\n O wyborze piłki decyduje gospodarz  meczu tj.  zespół   wymieniony w protokole na 1-szym miejscu. \n\nKlasyfikacja końcowa :\n Ustalona  będzie  na  podstawie  uzyskanych  wyników\,  osobno  dla  kobiet \,  osobno  dla mężczyzn.\nNagrody :\n I  –  IV  miejsce     –  Puchary (smoki)\,   dyplomy\n Pozostałe  miejsca  –  okolicznościowe  dyplomy.\n Dla wszystkich zespołów uczestniczących w Turnieju przewidziane  są  okolicznościowe  koszulki.\n Najlepsi zawodnicy (kobiety i mężczyźni): atakujący\, rozgrywający\, przyjmujący\, MVP otrzymują upominki (smoki) i okolicznościowe dyplomy.\n\n\n Zasady finansowania :\n –   koszty  związane  z  przeprowadzeniem  imprezy  pokrywają  organizatorzy\,\n –   koszty  dojazdu \,  wyżywienia \,  noclegu  i  opłaty  startowej  pokrywają  uczestnicy  we własnym zakresie.\n\nXII.  Postanowienia  końcowe : \n\nSekretariat zawodów będzie  czynny:\n 21.10.2017  w  godz.  8:00 – 16:00 \n 22.10.2017  w  godz.  9:00 – 15:00\nUczestników Turnieju obowiązuje strój i obuwie sportowe.\nUczestników Turnieju obowiązują zasady „fair play„\nOrganizatorzy zapewniają ubezpieczenie od następstw nieszczęśliwych wypadków /NNW/ i opiekę medyczną podczas zawodów.  Zespoły i uczestnicy mogą się dodatkowo  doubezpieczyć w zakresie NNW.\nOrganizatorzy nie biorą  odpowiedzialności  za  wypadki  spowodowane  złym  stanem  zdrowia startujących\,\nUczestnicy imprezy są zobowiązani do przestrzegania niniejszego Regulaminu\, ogólnych zasad  bezpieczeństwa i stosowania się do poleceń organizatorów.\nZa zachowanie osób niepełnoletnich odpowiadają ich opiekunowie.\nUczestnicy ponoszą odpowiedzialność cywilną i prawną za wszystkie szkody wyrządzone  z  własnej  winy.\nOrganizator i wszystkie osoby z nim współpracujące\, a także osoby związane z  przeprowadzeniem  i organizacją turnieju\, nie ponoszą odpowiedzialności względem uczestników za szkody osobowe\, rzeczowe i majątkowe\, które wystąpią przed\, w trakcie lub po imprezie.\nUczestnicy turnieju podpisując listę startową akceptują niniejszy Regulamin Turnieju oraz     poniższą klauzulę:\n *  zdjęcia\, nagrania filmowe\, wywiady\, relacje z wydarzenia z moja osobą mogą być wykorzystane przez prasę\, radio\, telewizję i internet.\n *  wyrażam zgodę na przetwarzanie moich danych osobowych i mojego wizerunku       zgodnie z ustawą z dnia 29 sierpnia 1997 r. o ochronie danych osobowych (Dz. U.   Nr 133\, poz. 883 i Art. 81 Ust. Pr. Aut.)\nWszystkie sprawy sporne wynikłe podczas Turnieju rozstrzygać będzie Komisja  odwoławcza  złożona  z  trzech   osób: (sędzia  główny i  dwóch przedstawicieli  organizatorów) po  wniesieniu  wadium  w  wysokości  50  zł.\nUczestnicy mają obowiązek zapoznać się z niniejszym Regulaminem.\nOrganizator zastrzega sobie prawo ostatecznej interpretacji niniejszego Regulaminu.\nNiniejszy Regulamin oraz bieżące informacje i wyniki Ogólnopolskiego Turnieju Siatkówki „Wawelskiego Smoka„ będą dostępne na  stronie  Małopolskiego  TKKF: www.tkkf.com\n\n  \nKarta zgłoszenia (zał. nr 1) – doc. \nZgoda rodziców (zał. nr 2) – doc
URL:https://tkkf.com/event/xv-ogolnopolski-turniej-siatkowki-kobiet-i-mezczyzn-wawelskiego-smoka/
LOCATION:ComComZone\, ul. Ptaszyckiego 6\, Kraków\, małopolska\, 31-979\, Polska
CATEGORIES:Imprezy sportowe
ATTACH;FMTTYPE=image/jpeg:https://tkkf.com/wp-content/uploads/2017/10/Bez-tytułu2.jpg
ORGANIZER;CN="Ma%C5%82opolskie TKKF":MAILTO:tkkf@tkkf.com
END:VEVENT
END:VCALENDAR