BEGIN:VCALENDAR
VERSION:2.0
PRODID:-//Małopolskie Towarzystwo Krzewienia Kultury Fizycznej - ECPv6.15.17.1//NONSGML v1.0//EN
CALSCALE:GREGORIAN
METHOD:PUBLISH
X-ORIGINAL-URL:https://tkkf.com
X-WR-CALDESC:Wydarzenia dla Małopolskie Towarzystwo Krzewienia Kultury Fizycznej
REFRESH-INTERVAL;VALUE=DURATION:PT1H
X-Robots-Tag:noindex
X-PUBLISHED-TTL:PT1H
BEGIN:VTIMEZONE
TZID:Europe/Warsaw
BEGIN:DAYLIGHT
TZOFFSETFROM:+0100
TZOFFSETTO:+0200
TZNAME:CEST
DTSTART:20160327T010000
END:DAYLIGHT
BEGIN:STANDARD
TZOFFSETFROM:+0200
TZOFFSETTO:+0100
TZNAME:CET
DTSTART:20161030T010000
END:STANDARD
BEGIN:DAYLIGHT
TZOFFSETFROM:+0100
TZOFFSETTO:+0200
TZNAME:CEST
DTSTART:20170326T010000
END:DAYLIGHT
BEGIN:STANDARD
TZOFFSETFROM:+0200
TZOFFSETTO:+0100
TZNAME:CET
DTSTART:20171029T010000
END:STANDARD
BEGIN:DAYLIGHT
TZOFFSETFROM:+0100
TZOFFSETTO:+0200
TZNAME:CEST
DTSTART:20180325T010000
END:DAYLIGHT
BEGIN:STANDARD
TZOFFSETFROM:+0200
TZOFFSETTO:+0100
TZNAME:CET
DTSTART:20181028T010000
END:STANDARD
END:VTIMEZONE
BEGIN:VEVENT
DTSTART;TZID=Europe/Warsaw:20170805T100000
DTEND;TZID=Europe/Warsaw:20170805T160000
DTSTAMP:20260421T205539
CREATED:20170707T141324Z
LAST-MODIFIED:20170803T135620Z
UID:584-1501927200-1501948800@tkkf.com
SUMMARY:XIV Otwarte Mistrzostwa Małopolskiego TKKF w siatkówce plażowej - eliminacje strefa Kraków
DESCRIPTION:Regulamin XIV Otwartych Mistrzostw MTKKF w siatkówce plażowej kobiet i mężczyzn  \nEliminacje – Strefy Kraków \n================================================= \n Cel : \n– Popularyzacja  siatkówki  plażowej  wśród  mieszkańców  Gminy Miejskiej Kraków \n– Wyłonienie 2 najlepszych zespołów kobiet i mężczyzn drogą eliminacji reprezentujących Strefę Kraków do Finału  XIV  Mistrzostw   Małopolskiego TKKF \n– Promowanie zasad FAIR PLAY \nOrganizator : \nMałopolskie  TKKF  –  Zarząd  Wojewódzki  w  Krakowie przy  współudziale  wybranych  Ognisk  i  klubów  TKKF \nKS  Wanda \nPartnerzy i  sponsorzy: \nWojewództwo Małopolskie \nGmina  Miejska  Kraków \nKS  Wanda  \nArs-Medica \nFundacja RECAL – Every can counts \n Wsparcie medialne : \nDziennik  Polski \nKurier Małopolskiego TKKF \nTermin i  miejsce : \n5 sierpnia  2017 r. (sobota) godz. 9:00 \nKraków\, ul. Odmogile 2 – boiska do siatkówki plażowej \n Program : \n10:00   –    10:30    Weryfikacja zawodników\, przyjmowanie  kart zgłoszeń  ( karta zgł. zał. Nr 1) i wpłat\, losowanie. \n 10:45                       Otwarcie Eliminacji i rozpoczęcie  gier  \n ~ok.16:00              Podsumowanie  i  ogłoszenie  wyników  eliminacji Strefy Kraków\,  wręczenie statuetek\, nagród rzeczowych\,  upominków i okolicznościowych  dyplomów. \nZasady  uczestnictwa  i  zgłoszenia : \nW Eliminacjach uczestniczyć  mogą : \n–    drużyny  dwuosobowe  (dopuszcza  się  drużyny  mieszane\, które  zaliczane  będą  do mężczyzn) reprezentujące Gminę Miejską Kraków \n–    amatorzy  oraz  zawodnicy  /bez względu na klasę i wiek / \n–    posiadają  aktualne  badania  lekarskie  lub  złożą  pisemne  oświadczenia  o  starcie  na  własną  odpowiedzialność\, \n–    w turnieju mogą startować zawodnicy powyżej 15 roku życia ( do 18 roku życia obowiązuje zgoda rodziców lub opiekuna prawnego zał. Nr 2 ) \n–    dokonali  wpłaty tytułem  wpisowego  w  wysokości  40 zł od pary do godz. 10:30 w  dniu imprezy tj. 05.08.2017 r. \n  \nZgłoszenia  przyjmowane  będą: \n– telefonicznie: 506-477-006 \n– e-mailem: katarzyna.oleksy@tkkf.com \n– na miejscu w dniu zawodów \nSystem  rozgrywek : \nEliminacje  rozegrane  będą  zgodnie  z  przepisami  PZPS –  siatkówka  plażowa\,  systemem  brazylijskim  z  jednym wyjątkiem. W każdym meczu rozgrywany jest tylko 1 set  do  21  pkt.  lub  15  pkt.  (w  zależności  od  ilości  zgłoszonych  drużyn) \n Klasyfikacja końcowa : \nUstalona  będzie  na  podstawie  uzyskanych  wyników  osobno  dla  kobiet \,  osobno  dla  mężczyzn (drużyny  mieszane  będą  klasyfikowane  jako  męskie). \nNagrody w  poszczególnych  kategoriach : \n I – III  miejsce   –   statuetki\, upominki rzeczowe i okolicznościowe dyplomy \n Zasady finansowania : \n–        koszty  związane  z  przeprowadzeniem  imprezy pokrywa  Zarząd Wojewódzki Małopolskiego TKKF\, \n–        koszty  dojazdu  i  opłaty  startowej  pokrywają  uczestnicy  we  własnym  zakresie. \nPostanowienia  końcowe : \n\nSekretariat zawodów  czynny  będzie  w  godzinach 8:00  do  16:00.\nOrganizatorzy  zapewniają  opiekę  medyczną  i  ubezpieczenie  NNW.\nUczestników turniejów obowiązują zasady „ fair play „\nKuby i  uczestnicy  mogą  dodatkowo  ubezpieczyć  się  we  własnym  zakresie  od następstw  nieszczęśliwych  wypadków.\nOrganizatorzy  nie  biorą  odpowiedzialności  za  wypadki  spowodowane  złym  stanem           zdrowia  startujących.\nUczestnicy ponoszą odpowiedzialność cywilną i prawna za wszystkie szkody wyrządzone z         własnej winy.\nOrganizator i wszystkie osoby z nim współpracujące\, a także osoby związane z         przeprowadzeniem  i organizacją turnieju nie ponoszą odpowiedzialności względem          uczestników za szkody osobowe\, rzeczowe i majątkowe\, które wystąpią przed\, w  trakcie lub po imprezie.\nUczestnicy imprezy są zobowiązani do przestrzegania niniejszego regulaminu\, ogólnych zasad bezpieczeństwa i stosowania się do poleceń organizatorów.\nUczestnicy turnieju podpisując listę startową akceptują niniejszy regulamin turnieju oraz      poniższą klauzulę:\n\n*  zdjęcia\, nagrania filmowe\, wywiady\, relacje z wydarzenia z moja osobą mogą być wykorzystane przez prasę\, radio\, telewizję i Internet. \n*  wyrażam zgodę na przetwarzanie moich danych osobowych i mojego wizerunku       zgodnie z ustawą z dnia 29 sierpnia 1997 r. o ochronie danych osobowych (Dz. U.   Nr 133\, poz. 883 i Art. 81 Ust. Pr. Aut.) \n\nUczestnicy mają obowiązek zapoznać się z regulaminem.\nWszystkie sprawy  sporne  wynikłe  podczas  zawodów  będzie  rozstrzygać  „Komisja        Odwoławcza”  złożona  z  trzech  osób  ( sędzia  główny  i  dwóch  przedstawicieli  organizatora)  po  wniesieniu  wadium  w  wysokości  50  zł  przez  zainteresowanych. W  przypadku  nie  uwzględnienia  protestu \,  wadium  przepada.\nOrganizator zastrzega sobie prawo ostatecznej interpretacji niniejszego Regulaminu.\nNiniejszy Regulamin oraz bieżące informacje i wyniki Mistrzostw będą dostępne na stronie            internetowej   Małopolskiego  TKKF: www.tkkf.com.\n\nZałącznik nr 1- PDF \nZałącznik nr 2 – PDF
URL:https://tkkf.com/event/xiv-otwarte-mistrzostwa-malopolskiego-tkkf-w-siatkowce-plazowej-eliminacje-strefa-krakow/
LOCATION:Basen Krakowianka\, Odmogile 2\, Kraków\, małopolskie\, Polska
CATEGORIES:Imprezy sportowe
ATTACH;FMTTYPE=image/jpeg:https://tkkf.com/wp-content/uploads/2017/07/koszulka-2.jpg
ORGANIZER;CN="Ma%C5%82opolskie TKKF":MAILTO:tkkf@tkkf.com
END:VEVENT
END:VCALENDAR